BEGIN:VCALENDAR
VERSION:2.0
PRODID:https://fuerstwallerstein.de/
BEGIN:VTIMEZONE
TZID:Europe/Berlin
X-LIC-LOCATION:Europe/Berlin
BEGIN:DAYLIGHT
TZOFFSETFROM:+0100
TZOFFSETTO:+0200
TZNAME:CEST
DTSTART:19700329T020000
RRULE:FREQ=YEARLY;BYDAY=-1SU;BYMONTH=3
END:DAYLIGHT
BEGIN:STANDARD
TZOFFSETFROM:+0200
TZOFFSETTO:+0100
TZNAME:CET
DTSTART:19701025T030000
RRULE:FREQ=YEARLY;BYDAY=-1SU;BYMONTH=10
END:STANDARD
END:VTIMEZONE
BEGIN:VEVENT
LOCATION:Facebook oder YouTube
SUMMARY:Auf ein Bier - August Wittgenstein
DESCRIPTION:Am 28. April 2021 um 19:30 Uhr geht der Fürst Wallerstein Live Bier-Talk Auf ein Bier in die nächste Runde . Besonderer Gast des Abends wird der deutsch-schwedische Schauspieler August Wittgenstein sein. Gemeinsam referieren und erörtern wir im interaktiven Gespräch die Thematik Serientäter  Die Filmindustrie im Wandel.
CLASS:PUBLIC
DTSTART;TZID=Europe/Berlin:20210428T193000
DTEND;TZID=Europe/Berlin:20210428T203000
DTSTAMP:20210414T095759
END:VEVENT
END:VCALENDAR